BEGIN:VCALENDAR
VERSION:2.0
PRODID:-//West Village Community - ECPv4.6.13//NONSGML v1.0//EN
CALSCALE:GREGORIAN
METHOD:PUBLISH
X-WR-CALNAME:West Village Community
X-ORIGINAL-URL:https://westvillagecommunity.com.au
X-WR-CALDESC:Events for West Village Community
BEGIN:VEVENT
DTSTART;TZID=UTC+0:20170228T093000
DTEND;TZID=UTC+0:20170228T110000
DTSTAMP:20260424T225830
CREATED:20170203T004945Z
LAST-MODIFIED:20170203T004945Z
UID:2165-1488274200-1488279600@westvillagecommunity.com.au
SUMMARY:Creative Kids Brisbane – Free Children’s Art!
DESCRIPTION:
URL:https://westvillagecommunity.com.au/event/creative-kids-brisbane-free-childrens-art-20/
LOCATION:93 Boundary Street\, West End\, Qld\, 4101\, Australia
ORGANIZER;CN="Creative%20Kids%20Brisbane":MAILTO:creativekidsbris@gmail.com
END:VEVENT
END:VCALENDAR