BEGIN:VCALENDAR
VERSION:2.0
PRODID:-//West Village Community - ECPv4.6.13//NONSGML v1.0//EN
CALSCALE:GREGORIAN
METHOD:PUBLISH
X-WR-CALNAME:West Village Community
X-ORIGINAL-URL:https://westvillagecommunity.com.au
X-WR-CALDESC:Events for West Village Community
BEGIN:VEVENT
DTSTART;TZID=UTC+0:20170403T080000
DTEND;TZID=UTC+0:20170403T170000
DTSTAMP:20260424T115256
CREATED:20170403T095005Z
LAST-MODIFIED:20170404T030132Z
UID:2272-1491206400-1491238800@westvillagecommunity.com.au
SUMMARY:Free Kids Art!
DESCRIPTION: \nCreative Kids Brisbane runs a FREE daily art studio for children of all ages in the heart of West End\, Brisbane. We run a variety of art activities including Sensory Art + Play for toddlers and babies every Tuesday and Thursday morning. All art sessions are suitable for children of all ages. \nTo book a place in one of our free art sessions click here \nFind us at 97 Boundary St West End. We also have parking available via the Mollison street entrance to West Village Brisbane. \n
URL:https://westvillagecommunity.com.au/event/free-kids-art-3/
LOCATION:93 Boundary Street\, West End\, Qld\, 4101\, Australia
ORGANIZER;CN="Creative%20Kids%20Brisbane":MAILTO:creativekidsbris@gmail.com
END:VEVENT
END:VCALENDAR