BEGIN:VCALENDAR
VERSION:2.0
PRODID:-//West Village Community - ECPv4.6.13//NONSGML v1.0//EN
CALSCALE:GREGORIAN
METHOD:PUBLISH
X-WR-CALNAME:West Village Community
X-ORIGINAL-URL:https://westvillagecommunity.com.au
X-WR-CALDESC:Events for West Village Community
BEGIN:VEVENT
DTSTART;TZID=UTC+0:20170311T110000
DTEND;TZID=UTC+0:20170311T170000
DTSTAMP:20260424T212027
CREATED:20170208T014705Z
LAST-MODIFIED:20170226T123221Z
UID:2187-1489230000-1489251600@westvillagecommunity.com.au
SUMMARY:Brisbane Ice Cream Festival
DESCRIPTION:
URL:https://westvillagecommunity.com.au/event/ice-cream-festival/
LOCATION:97 Boundary Street\, West End\, Qld\, 4101\, Australia
ATTACH;FMTTYPE=image/jpeg:https://westvillagecommunity.com.au/wp-content/uploads/BrisIceCream-Blue.jpg
ORGANIZER;CN="West%20Village":MAILTO:info@westvillagecommunity.com.au
END:VEVENT
END:VCALENDAR